BEGIN:VCALENDAR
VERSION:2.0
PRODID:http://dev.rosenkreuzer.eu/veranstaltungen/
METHOD:PUBLISH
X-WR-TIMEZONE:Europe/Berlin
CALSCALE:GREGORIAN
BEGIN:VTIMEZONE
TZID:Europe/Berlin
BEGIN:DAYLIGHT
TZOFFSETFROM:+0100
RRULE:FREQ=YEARLY;BYMONTH=3;BYDAY=-1SU
DTSTART:19810329T020000
TZNAME:GMT+02:00
TZOFFSETTO:+0200
END:DAYLIGHT
BEGIN:STANDARD
TZOFFSETFROM:+0200
RRULE:FREQ=YEARLY;BYMONTH=10;BYDAY=-1SU
DTSTART:19961027T030000
TZNAME:GMT+01:00
TZOFFSETTO:+0100
END:STANDARD
END:VTIMEZONE
BEGIN:VEVENT
UID:19863@rosenkreuzer.de
SUMMARY:Lichtfest - Ein traditioneller Höhepunkt im Jahreszyklus der Rosenkreuzer.
DESCRIPTION:Lichtfest
CLASS:PUBLIC
DTSTART;TZID=Europe/Berlin:20261219T160000
DTEND;TZID=Europe/Berlin:20261219T
DTSTAMP;TZID=Europe/Berlin:20260424T015134
LOCATION:Logenhaus Valentin-Becker-Straße 3 97072 Würzburg
BEGIN:VALARM
ACTION:DISPLAY
TRIGGER:-P1D
END:VALARM
END:VEVENT
END:VCALENDAR