BEGIN:VCALENDAR
VERSION:2.0
PRODID:http://dev.rosenkreuzer.eu/veranstaltungen/
METHOD:PUBLISH
X-WR-TIMEZONE:Europe/Berlin
CALSCALE:GREGORIAN
BEGIN:VTIMEZONE
TZID:Europe/Berlin
BEGIN:DAYLIGHT
TZOFFSETFROM:+0100
RRULE:FREQ=YEARLY;BYMONTH=3;BYDAY=-1SU
DTSTART:19810329T020000
TZNAME:GMT+02:00
TZOFFSETTO:+0200
END:DAYLIGHT
BEGIN:STANDARD
TZOFFSETFROM:+0200
RRULE:FREQ=YEARLY;BYMONTH=10;BYDAY=-1SU
DTSTART:19961027T030000
TZNAME:GMT+01:00
TZOFFSETTO:+0100
END:STANDARD
END:VTIMEZONE
BEGIN:VEVENT
UID:20077@rosenkreuzer.de
SUMMARY:Pyramidenfest
DESCRIPTION:Traditionelle Herbstfeier der Rosenkreuzer im Freien
CLASS:PUBLIC
DTSTART;TZID=Europe/Berlin:20260912T100000
DTEND;TZID=Europe/Berlin:20260912T
DTSTAMP;TZID=Europe/Berlin:20260419T120913
LOCATION:Treffpunkt: S-Bahnhof Buchenhain (S7)Um 10:00 Uhr   München
BEGIN:VALARM
ACTION:DISPLAY
TRIGGER:-P1D
END:VALARM
END:VEVENT
END:VCALENDAR